BEGIN:VCALENDAR
PRODID:-//eluceo/ical//2.0/EN
VERSION:2.0
CALSCALE:GREGORIAN
BEGIN:VEVENT
UID:57f8bbdc945c7a4c32765d46f1fc917a
DTSTAMP:20260420T224325Z
SUMMARY:Accueil de Paul Ballenegger par Kurt Oesch – Mini-débat sur la r
 éorganisation des polices dans le canton de Vaud (Claudine Wyssa et Pierr
 e Aepli\, modération Alain Wurzburger) –
DESCRIPTION:
URL:https://lausanne.rotary1990.ch/es/agenda/show/11202
DTSTART;TZID=Europe/Zurich:20090501T121500
DTEND;TZID=Europe/Zurich:20090501T121500
LOCATION:Lausanne-Palace
CATEGORIES:Rotary
END:VEVENT
BEGIN:VTIMEZONE
TZID:Europe/Zurich
BEGIN:DAYLIGHT
DTSTART:20090501T121500
TZNAME:CEST
TZOFFSETTO:+0200
TZOFFSETFROM:+0200
END:DAYLIGHT
END:VTIMEZONE
END:VCALENDAR
